View In:
ArcGIS JavaScript
ArcGIS Online Map Viewer
ArcGIS Earth
ArcGIS Pro
Service Description: <div style='text-align:Left;font-size:12pt'><div><p><span>WMTS_BDL_kat_wlasnosci</span></p></div></div>
Map Name: WMTS_BDL_kat_wlasnosci_3_0
Legend
All Layers and Tables
Dynamic Legend
Dynamic All Layers
Layers:
Description: WMTS_BDL_kat_wlasnosci
Copyright Text:
Spatial Reference:
102100
(3857)
LatestVCSWkid(0)
Single Fused Map Cache: true
Tile Info:
- Height: 256.0
- Width: 256.0
- DPI: 96.0
-
Levels of Detail: 24
-
Level ID: 1
[ Start Tile, End Tile ]
- Resolution: 78271.5169639999
- Scale: 2.95828763795777E8
-
Level ID: 2
[ Start Tile, End Tile ]
- Resolution: 39135.7584820001
- Scale: 1.47914381897889E8
-
Level ID: 3
[ Start Tile, End Tile ]
- Resolution: 19567.8792409999
- Scale: 7.3957190948944E7
-
Level ID: 4
[ Start Tile, End Tile ]
- Resolution: 9783.93962049996
- Scale: 3.6978595474472E7
-
Level ID: 5
[ Start Tile, End Tile ]
- Resolution: 4891.96981024998
- Scale: 1.8489297737236E7
- Format: PNG
- Compression Quality: 0.0
- Origin: X: -2.0037508342787E7
Y: 2.0037508342787E7
- Spatial Reference: 102100
(3857)
LatestVCSWkid(0)
Storage Info:
- Storage Format: esriMapCacheStorageModeCompactV2
- Packet Size: 128
Initial Extent:
XMin: 1488758.8772769528
YMin: 6288388.180249851
XMax: 2799177.8061535456
YMax: 7310217.685281221
Spatial Reference: 102100
(0)
LatestVCSWkid(0)
Full Extent:
XMin: 1547081.9902049613
YMin: 6268146.778350357
XMax: 2740844.7953921435
YMax: 7330624.789078465
Spatial Reference: 102100
(0)
LatestVCSWkid(0)
Units: esriMeters
Supported Image Format Types: PNG32,PNG24,PNG,JPG,DIB,TIFF,EMF,PS,PDF,GIF,SVG,SVGZ,BMP
Document Info:
Title: WMTS_BDL_kat_wlasnosci
Author:
Comments: WMTS_BDL_kat_wlasnosci
Subject: WMTS Banku Danych o Lasach
Category:
Keywords: BDL WMTS
AntialiasingMode: Fast
TextAntialiasingMode: Force
Supports Dynamic Layers: true
Resampling: false
MaxRecordCount: 2000
MaxImageHeight: 4096
MaxImageWidth: 4096
Supported Query Formats: JSON, geoJSON, PBF
Supports Query Data Elements: true
Min Scale: 9244648.868618
Max Scale: 4513.988705
Supports Datum Transformation: true
Child Resources:
Info
Dynamic Layer
Supported Operations:
Export Map
Identify
QueryLegends
QueryDomains
Find
Return Updates